Package: LedPred Version: 1.45.0 Command: /home/biocbuild/bbs-3.23-bioc/R/bin/R CMD INSTALL LedPred StartedAt: 2025-11-20 15:10:00 -0500 (Thu, 20 Nov 2025) EndedAt: 2025-11-20 15:10:19 -0500 (Thu, 20 Nov 2025) EllapsedTime: 19.1 seconds RetCode: 0 Status: OK