Package: LedPred Version: 1.43.0 Command: /Library/Frameworks/R.framework/Resources/bin/R CMD build --keep-empty-dirs --no-resave-data LedPred StartedAt: 2025-10-03 17:35:41 -0400 (Fri, 03 Oct 2025) EndedAt: 2025-10-03 17:36:18 -0400 (Fri, 03 Oct 2025) EllapsedTime: 36.7 seconds RetCode: 0 Status: OK PackageFile: LedPred_1.43.0.tar.gz PackageFileSize: 1.461 MiB