Package: LedPred Version: 1.43.0 Command: /Library/Frameworks/R.framework/Resources/bin/R CMD INSTALL LedPred StartedAt: 2025-10-03 15:06:08 -0400 (Fri, 03 Oct 2025) EndedAt: 2025-10-03 15:06:13 -0400 (Fri, 03 Oct 2025) EllapsedTime: 5.0 seconds RetCode: 0 Status: OK