Package: LedPred Version: 1.43.0 Command: rm -rf LedPred.buildbin-libdir && mkdir LedPred.buildbin-libdir && /Users/biocbuild/BBS/utils/build-universal.sh LedPred_1.43.0.tar.gz /Library/Frameworks/R.framework/Resources/bin/R LedPred.buildbin-libdir StartedAt: 2025-10-03 22:44:00 -0400 (Fri, 03 Oct 2025) EndedAt: 2025-10-03 22:44:09 -0400 (Fri, 03 Oct 2025) EllapsedTime: 9.2 seconds RetCode: 0 Status: OK PackageFile: LedPred_1.43.0.tgz PackageFileSize: 1.691 MiB