Package: LRcell Version: 1.17.0 Command: /home/biocbuild/R/R/bin/R CMD INSTALL LRcell StartedAt: 2025-10-16 21:54:07 -0000 (Thu, 16 Oct 2025) EndedAt: 2025-10-16 21:54:30 -0000 (Thu, 16 Oct 2025) EllapsedTime: 22.4 seconds RetCode: 0 Status: OK