Package: LRcell Version: 1.17.0 Command: /home/biocbuild/R/R/bin/R CMD build --keep-empty-dirs --no-resave-data LRcell StartedAt: 2025-10-14 01:20:50 -0000 (Tue, 14 Oct 2025) EndedAt: 2025-10-14 01:22:28 -0000 (Tue, 14 Oct 2025) EllapsedTime: 98.1 seconds RetCode: 0 Status: OK PackageFile: LRcell_1.17.0.tar.gz PackageFileSize: 726.3 KiB