Package: LRcell Version: 1.17.0 Command: /home/biocbuild/bbs-3.22-bioc/R/bin/R CMD check --install=check:LRcell.install-out.txt --library=/home/biocbuild/bbs-3.22-bioc/R/site-library --timings LRcell_1.17.0.tar.gz StartedAt: 2025-10-06 01:17:55 -0400 (Mon, 06 Oct 2025) EndedAt: 2025-10-06 01:21:25 -0400 (Mon, 06 Oct 2025) EllapsedTime: 209.4 seconds RetCode: 0 Status: OK CheckDir: LRcell.Rcheck Warnings: 0