Package: LRcell Version: 1.19.0 Command: /home/biocbuild/bbs-3.23-bioc/R/bin/R CMD INSTALL LRcell StartedAt: 2025-11-05 15:42:00 -0500 (Wed, 05 Nov 2025) EndedAt: 2025-11-05 15:42:16 -0500 (Wed, 05 Nov 2025) EllapsedTime: 16.0 seconds RetCode: 0 Status: OK