Package: LRcell Version: 1.19.0 Command: /home/biocbuild/bbs-3.23-bioc/R/bin/R CMD check --install=check:LRcell.install-out.txt --library=/home/biocbuild/bbs-3.23-bioc/R/site-library --timings LRcell_1.19.0.tar.gz StartedAt: 2025-11-15 00:56:55 -0500 (Sat, 15 Nov 2025) EndedAt: 2025-11-15 01:00:03 -0500 (Sat, 15 Nov 2025) EllapsedTime: 188.4 seconds RetCode: 0 Status: OK CheckDir: LRcell.Rcheck Warnings: 0