Package: LRcell Version: 1.19.0 Command: /home/biocbuild/bbs-3.23-bioc/R/bin/R CMD build --keep-empty-dirs --no-resave-data LRcell StartedAt: 2025-11-04 18:17:27 -0500 (Tue, 04 Nov 2025) EndedAt: 2025-11-04 18:18:26 -0500 (Tue, 04 Nov 2025) EllapsedTime: 59.1 seconds RetCode: 0 Status: OK PackageFile: LRcell_1.19.0.tar.gz PackageFileSize: 1.074 MiB