Package: LRBaseDbi Version: 2.19.1 Command: /home/biocbuild/R/R/bin/R CMD INSTALL LRBaseDbi StartedAt: 2025-10-02 21:27:59 -0000 (Thu, 02 Oct 2025) EndedAt: 2025-10-02 21:28:15 -0000 (Thu, 02 Oct 2025) EllapsedTime: 16.3 seconds RetCode: 0 Status: OK