Package: LRBaseDbi Version: 2.19.1 Command: /home/biocbuild/R/R/bin/R CMD build --keep-empty-dirs --no-resave-data LRBaseDbi StartedAt: 2025-10-03 00:57:26 -0000 (Fri, 03 Oct 2025) EndedAt: 2025-10-03 00:58:00 -0000 (Fri, 03 Oct 2025) EllapsedTime: 34.0 seconds RetCode: 0 Status: OK PackageFile: LRBaseDbi_2.19.1.tar.gz PackageFileSize: 138.8 KiB