Package: LRBaseDbi Version: 2.19.1 Command: rm -rf LRBaseDbi.buildbin-libdir && mkdir LRBaseDbi.buildbin-libdir && F:\biocbuild\bbs-3.22-bioc\R\bin\R.exe CMD INSTALL --build --library=LRBaseDbi.buildbin-libdir LRBaseDbi_2.19.1.tar.gz StartedAt: 2025-08-15 10:36:11 -0400 (Fri, 15 Aug 2025) EndedAt: 2025-08-15 10:36:49 -0400 (Fri, 15 Aug 2025) EllapsedTime: 38.0 seconds RetCode: 0 Status: OK PackageFile: LRBaseDbi_2.19.1.zip PackageFileSize: 554.2 KiB