Package: LRBaseDbi Version: 2.21.0 Command: /home/biocbuild/bbs-3.23-bioc/R/bin/R CMD check --install=check:LRBaseDbi.install-out.txt --library=/home/biocbuild/bbs-3.23-bioc/R/site-library --timings LRBaseDbi_2.21.0.tar.gz StartedAt: 2025-11-03 00:33:27 -0500 (Mon, 03 Nov 2025) EndedAt: 2025-11-03 00:35:40 -0500 (Mon, 03 Nov 2025) EllapsedTime: 133.4 seconds RetCode: 0 Status: OK CheckDir: LRBaseDbi.Rcheck Warnings: 0