Package: LPE Version: 1.85.0 Command: /home/biocbuild/bbs-3.23-bioc/R/bin/R CMD INSTALL LPE StartedAt: 2025-11-20 15:02:45 -0500 (Thu, 20 Nov 2025) EndedAt: 2025-11-20 15:03:02 -0500 (Thu, 20 Nov 2025) EllapsedTime: 16.5 seconds RetCode: 0 Status: OK