Package: LPE Version: 1.85.0 Command: /Library/Frameworks/R.framework/Resources/bin/R CMD build --keep-empty-dirs --no-resave-data LPE StartedAt: 2025-11-20 17:32:51 -0500 (Thu, 20 Nov 2025) EndedAt: 2025-11-20 17:33:04 -0500 (Thu, 20 Nov 2025) EllapsedTime: 13.8 seconds RetCode: 0 Status: OK PackageFile: LPE_1.85.0.tar.gz PackageFileSize: 436.5 KiB