Package: LPE Version: 1.85.0 Command: /Library/Frameworks/R.framework/Resources/bin/R CMD INSTALL LPE StartedAt: 2025-11-20 15:01:58 -0500 (Thu, 20 Nov 2025) EndedAt: 2025-11-20 15:02:01 -0500 (Thu, 20 Nov 2025) EllapsedTime: 2.6 seconds RetCode: 0 Status: OK