Package: LPE Version: 1.85.0 Command: rm -rf LPE.buildbin-libdir && mkdir LPE.buildbin-libdir && /Users/biocbuild/BBS/utils/build-universal.sh LPE_1.85.0.tar.gz /Library/Frameworks/R.framework/Resources/bin/R LPE.buildbin-libdir StartedAt: 2025-11-20 23:39:09 -0500 (Thu, 20 Nov 2025) EndedAt: 2025-11-20 23:39:11 -0500 (Thu, 20 Nov 2025) EllapsedTime: 2.1 seconds RetCode: 0 Status: OK PackageFile: LPE_1.85.0.tgz PackageFileSize: 512.2 KiB