Package: LOLA Version: 1.41.0 Command: /home/biocbuild/bbs-3.23-bioc/R/bin/R CMD build --keep-empty-dirs --no-resave-data LOLA StartedAt: 2025-11-20 18:22:29 -0500 (Thu, 20 Nov 2025) EndedAt: 2025-11-20 18:22:47 -0500 (Thu, 20 Nov 2025) EllapsedTime: 18.0 seconds RetCode: 0 Status: OK PackageFile: LOLA_1.41.0.tar.gz PackageFileSize: 1.11 MiB