Package: LOLA Version: 1.39.1 Command: /Library/Frameworks/R.framework/Resources/bin/R CMD INSTALL LOLA StartedAt: 2025-10-16 15:44:30 -0400 (Thu, 16 Oct 2025) EndedAt: 2025-10-16 15:44:47 -0400 (Thu, 16 Oct 2025) EllapsedTime: 17.1 seconds RetCode: 0 Status: OK