Package: LOLA Version: 1.39.1 Command: rm -rf LOLA.buildbin-libdir && mkdir LOLA.buildbin-libdir && /Users/biocbuild/BBS/utils/build-universal.sh LOLA_1.39.1.tar.gz /Library/Frameworks/R.framework/Resources/bin/R LOLA.buildbin-libdir StartedAt: 2025-10-17 03:57:41 -0400 (Fri, 17 Oct 2025) EndedAt: 2025-10-17 03:57:59 -0400 (Fri, 17 Oct 2025) EllapsedTime: 18.4 seconds RetCode: 0 Status: OK PackageFile: LOLA_1.39.1.tgz PackageFileSize: 1.186 MiB