Package: LOBSTAHS Version: 1.37.0 Command: /home/biocbuild/bbs-3.23-bioc/R/bin/R CMD INSTALL LOBSTAHS StartedAt: 2025-11-05 15:52:55 -0500 (Wed, 05 Nov 2025) EndedAt: 2025-11-05 15:53:43 -0500 (Wed, 05 Nov 2025) EllapsedTime: 48.2 seconds RetCode: 0 Status: OK