Package: LOBSTAHS Version: 1.37.0 Command: /home/biocbuild/bbs-3.23-bioc/R/bin/R CMD build --keep-empty-dirs --no-resave-data LOBSTAHS StartedAt: 2025-11-05 18:24:16 -0500 (Wed, 05 Nov 2025) EndedAt: 2025-11-05 18:25:23 -0500 (Wed, 05 Nov 2025) EllapsedTime: 66.1 seconds RetCode: 0 Status: OK PackageFile: LOBSTAHS_1.37.0.tar.gz PackageFileSize: 2.902 MiB