Package: LOBSTAHS Version: 1.35.1 Command: /Library/Frameworks/R.framework/Resources/bin/R CMD INSTALL LOBSTAHS StartedAt: 2025-10-08 15:49:50 -0400 (Wed, 08 Oct 2025) EndedAt: 2025-10-08 15:50:58 -0400 (Wed, 08 Oct 2025) EllapsedTime: 68.8 seconds RetCode: 0 Status: OK