Package: LOBSTAHS Version: 1.35.1 Command: /Library/Frameworks/R.framework/Resources/bin/R CMD build --keep-empty-dirs --no-resave-data LOBSTAHS StartedAt: 2025-10-08 17:46:42 -0400 (Wed, 08 Oct 2025) EndedAt: 2025-10-08 17:48:24 -0400 (Wed, 08 Oct 2025) EllapsedTime: 102.2 seconds RetCode: 0 Status: OK PackageFile: LOBSTAHS_1.35.1.tar.gz PackageFileSize: 2.902 MiB