Package: LOBSTAHS Version: 1.35.1 Command: rm -rf LOBSTAHS.buildbin-libdir && mkdir LOBSTAHS.buildbin-libdir && /Users/biocbuild/BBS/utils/build-universal.sh LOBSTAHS_1.35.1.tar.gz /Library/Frameworks/R.framework/Resources/bin/R LOBSTAHS.buildbin-libdir StartedAt: 2025-10-09 02:39:02 -0400 (Thu, 09 Oct 2025) EndedAt: 2025-10-09 02:40:13 -0400 (Thu, 09 Oct 2025) EllapsedTime: 71.1 seconds RetCode: 0 Status: OK PackageFile: LOBSTAHS_1.35.1.tgz PackageFileSize: 1.998 MiB