Package: LEA Version: 3.21.0 Command: /home/biocbuild/bbs-3.22-bioc/R/bin/R CMD check --install=check:LEA.install-out.txt --library=/home/biocbuild/bbs-3.22-bioc/R/site-library --timings LEA_3.21.0.tar.gz StartedAt: 2025-10-16 01:43:01 -0400 (Thu, 16 Oct 2025) EndedAt: 2025-10-16 01:46:23 -0400 (Thu, 16 Oct 2025) EllapsedTime: 202.3 seconds RetCode: 0 Status: OK CheckDir: LEA.Rcheck Warnings: 0