Package: LEA Version: 3.23.0 Command: /home/biocbuild/bbs-3.23-bioc/R/bin/R CMD INSTALL LEA StartedAt: 2025-10-31 15:11:08 -0400 (Fri, 31 Oct 2025) EndedAt: 2025-10-31 15:11:38 -0400 (Fri, 31 Oct 2025) EllapsedTime: 30.2 seconds RetCode: 0 Status: OK