Package: LEA Version: 3.23.0 Command: /home/biocbuild/bbs-3.23-bioc/R/bin/R CMD build --keep-empty-dirs --no-resave-data LEA StartedAt: 2025-10-31 18:29:27 -0400 (Fri, 31 Oct 2025) EndedAt: 2025-10-31 18:30:57 -0400 (Fri, 31 Oct 2025) EllapsedTime: 90.2 seconds RetCode: 0 Status: OK PackageFile: LEA_3.23.0.tar.gz PackageFileSize: 740.4 KiB