Package: LBE Version: 1.79.0 Command: /home/biocbuild/bbs-3.23-bioc/R/bin/R CMD build --keep-empty-dirs --no-resave-data LBE StartedAt: 2025-11-20 18:19:28 -0500 (Thu, 20 Nov 2025) EndedAt: 2025-11-20 18:19:35 -0500 (Thu, 20 Nov 2025) EllapsedTime: 7.0 seconds RetCode: 0 Status: OK PackageFile: LBE_1.79.0.tar.gz PackageFileSize: 784.2 KiB