Package: LBE Version: 1.77.0 Command: /Library/Frameworks/R.framework/Resources/bin/R CMD INSTALL LBE StartedAt: 2025-10-28 15:07:17 -0400 (Tue, 28 Oct 2025) EndedAt: 2025-10-28 15:08:03 -0400 (Tue, 28 Oct 2025) EllapsedTime: 45.6 seconds RetCode: 0 Status: OK