Package: LBE Version: 1.77.0 Command: rm -rf LBE.buildbin-libdir && mkdir LBE.buildbin-libdir && /Users/biocbuild/BBS/utils/build-universal.sh LBE_1.77.0.tar.gz /Library/Frameworks/R.framework/Resources/bin/R LBE.buildbin-libdir StartedAt: 2025-10-29 01:41:37 -0400 (Wed, 29 Oct 2025) EndedAt: 2025-10-29 01:41:42 -0400 (Wed, 29 Oct 2025) EllapsedTime: 4.6 seconds RetCode: 0 Status: OK PackageFile: LBE_1.77.0.tgz PackageFileSize: 811.3 KiB