Package: LBE Version: 1.77.0 Command: /Library/Frameworks/R.framework/Resources/bin/R CMD INSTALL LBE StartedAt: 2025-10-12 15:01:36 -0400 (Sun, 12 Oct 2025) EndedAt: 2025-10-12 15:01:43 -0400 (Sun, 12 Oct 2025) EllapsedTime: 6.5 seconds RetCode: 0 Status: OK