Package: LACHESIS Version: 0.99.4 Command: /home/biocbuild/bbs-3.23-bioc/R/bin/R CMD INSTALL LACHESIS StartedAt: 2025-11-20 15:15:38 -0500 (Thu, 20 Nov 2025) EndedAt: 2025-11-20 15:15:56 -0500 (Thu, 20 Nov 2025) EllapsedTime: 18.1 seconds RetCode: 0 Status: OK