Package: LACHESIS Version: 0.99.4 Command: /home/biocbuild/bbs-3.23-bioc/R/bin/R CMD build --keep-empty-dirs --no-resave-data LACHESIS StartedAt: 2025-11-20 18:19:25 -0500 (Thu, 20 Nov 2025) EndedAt: 2025-11-20 18:22:50 -0500 (Thu, 20 Nov 2025) EllapsedTime: 204.3 seconds RetCode: 0 Status: OK PackageFile: LACHESIS_0.99.4.tar.gz PackageFileSize: 3.696 MiB