Package: LACHESIS Version: 0.99.4 Command: /Library/Frameworks/R.framework/Resources/bin/R CMD INSTALL LACHESIS StartedAt: 2025-11-20 15:22:22 -0500 (Thu, 20 Nov 2025) EndedAt: 2025-11-20 15:22:50 -0500 (Thu, 20 Nov 2025) EllapsedTime: 28.7 seconds RetCode: 0 Status: OK