Package: LACHESIS Version: 0.99.4 Command: /Library/Frameworks/R.framework/Resources/bin/R CMD build --keep-empty-dirs --no-resave-data LACHESIS StartedAt: 2025-11-20 17:30:47 -0500 (Thu, 20 Nov 2025) EndedAt: 2025-11-20 17:34:32 -0500 (Thu, 20 Nov 2025) EllapsedTime: 224.6 seconds RetCode: 0 Status: OK PackageFile: LACHESIS_0.99.4.tar.gz PackageFileSize: 3.66 MiB