Package: LACHESIS Version: 0.99.4 Command: rm -rf LACHESIS.buildbin-libdir && mkdir LACHESIS.buildbin-libdir && /Users/biocbuild/BBS/utils/build-universal.sh LACHESIS_0.99.4.tar.gz /Library/Frameworks/R.framework/Resources/bin/R LACHESIS.buildbin-libdir StartedAt: 2025-11-21 01:40:18 -0500 (Fri, 21 Nov 2025) EndedAt: 2025-11-21 01:40:48 -0500 (Fri, 21 Nov 2025) EllapsedTime: 30.2 seconds RetCode: 0 Status: OK PackageFile: LACHESIS_0.99.4.tgz PackageFileSize: 3.842 MiB