Package: LACHESIS Version: 0.99.4 Command: /Library/Frameworks/R.framework/Resources/bin/R CMD INSTALL LACHESIS StartedAt: 2025-11-20 15:08:13 -0500 (Thu, 20 Nov 2025) EndedAt: 2025-11-20 15:08:20 -0500 (Thu, 20 Nov 2025) EllapsedTime: 7.0 seconds RetCode: 0 Status: OK