Package: LACHESIS Version: 0.99.4 Command: rm -rf LACHESIS.buildbin-libdir && mkdir LACHESIS.buildbin-libdir && /Users/biocbuild/BBS/utils/build-universal.sh LACHESIS_0.99.4.tar.gz /Library/Frameworks/R.framework/Resources/bin/R LACHESIS.buildbin-libdir StartedAt: 2025-11-20 23:38:41 -0500 (Thu, 20 Nov 2025) EndedAt: 2025-11-20 23:38:51 -0500 (Thu, 20 Nov 2025) EllapsedTime: 10.2 seconds RetCode: 0 Status: OK PackageFile: LACHESIS_0.99.4.tgz PackageFileSize: 3.844 MiB