Package: LACHESIS Version: 0.99.4 Maintainer: Verena Körber MaintainerEmail: verena.korber at ndcls.ox.ac.uk git_url: https://git.bioconductor.org/packages/LACHESIS git_branch: devel git_last_commit: 0cbd1e4 git_last_commit_date: 2025-11-03 10:21:55 -0500 (Mon, 03 Nov 2025)