Package: LACE Version: 2.13.1 Command: /Library/Frameworks/R.framework/Resources/bin/R CMD INSTALL LACE StartedAt: 2025-10-08 15:27:46 -0400 (Wed, 08 Oct 2025) EndedAt: 2025-10-08 15:28:31 -0400 (Wed, 08 Oct 2025) EllapsedTime: 45.8 seconds RetCode: 0 Status: OK