Package: LACE Version: 2.13.1 Command: rm -rf LACE.buildbin-libdir && mkdir LACE.buildbin-libdir && /Users/biocbuild/BBS/utils/build-universal.sh LACE_2.13.1.tar.gz /Library/Frameworks/R.framework/Resources/bin/R LACE.buildbin-libdir StartedAt: 2025-10-09 02:38:37 -0400 (Thu, 09 Oct 2025) EndedAt: 2025-10-09 02:39:29 -0400 (Thu, 09 Oct 2025) EllapsedTime: 52.2 seconds RetCode: 0 Status: OK PackageFile: LACE_2.13.1.tgz PackageFileSize: 3.044 MiB