Package: LACE Version: 2.13.1 Maintainer: Davide Maspero MaintainerEmail: d.maspero at campus.unimib.it git_url: https://git.bioconductor.org/packages/LACE git_branch: devel git_last_commit: c53305e git_last_commit_date: 2025-09-27 02:37:21 -0400 (Sat, 27 Sep 2025)