Package: KnowSeq Version: 1.25.0 Command: /home/biocbuild/bbs-3.23-bioc/R/bin/R CMD INSTALL KnowSeq StartedAt: 2025-11-20 15:28:33 -0500 (Thu, 20 Nov 2025) EndedAt: 2025-11-20 15:29:06 -0500 (Thu, 20 Nov 2025) EllapsedTime: 32.6 seconds RetCode: 0 Status: OK