Package: KnowSeq Version: 1.25.0 Command: /home/biocbuild/bbs-3.23-bioc/R/bin/R CMD check --install=check:KnowSeq.install-out.txt --library=/home/biocbuild/bbs-3.23-bioc/R/site-library --timings KnowSeq_1.25.0.tar.gz StartedAt: 2025-11-21 00:50:29 -0500 (Fri, 21 Nov 2025) EndedAt: 2025-11-21 00:57:13 -0500 (Fri, 21 Nov 2025) EllapsedTime: 403.7 seconds RetCode: 0 Status: OK CheckDir: KnowSeq.Rcheck Warnings: 0