Package: KnowSeq Version: 1.25.0 Command: /home/biocbuild/bbs-3.23-bioc/R/bin/R CMD build --keep-empty-dirs --no-resave-data KnowSeq StartedAt: 2025-11-20 18:19:09 -0500 (Thu, 20 Nov 2025) EndedAt: 2025-11-20 18:21:33 -0500 (Thu, 20 Nov 2025) EllapsedTime: 143.2 seconds RetCode: 0 Status: OK PackageFile: KnowSeq_1.25.0.tar.gz PackageFileSize: 8.217 MiB