Package: KinSwingR Version: 1.27.0 Command: /home/biocbuild/R/R/bin/R CMD INSTALL KinSwingR StartedAt: 2025-10-09 20:55:31 -0000 (Thu, 09 Oct 2025) EndedAt: 2025-10-09 20:56:13 -0000 (Thu, 09 Oct 2025) EllapsedTime: 42.3 seconds RetCode: 0 Status: OK