Package: KinSwingR Version: 1.27.0 Command: /home/biocbuild/R/R/bin/R CMD build --keep-empty-dirs --no-resave-data KinSwingR StartedAt: 2025-10-10 01:36:53 -0000 (Fri, 10 Oct 2025) EndedAt: 2025-10-10 01:37:26 -0000 (Fri, 10 Oct 2025) EllapsedTime: 33.0 seconds RetCode: 0 Status: OK PackageFile: KinSwingR_1.27.0.tar.gz PackageFileSize: 631.3 KiB