Package: KinSwingR Version: 1.29.0 Command: /home/biocbuild/bbs-3.23-bioc/R/bin/R CMD INSTALL KinSwingR StartedAt: 2025-11-07 15:06:01 -0500 (Fri, 07 Nov 2025) EndedAt: 2025-11-07 15:06:14 -0500 (Fri, 07 Nov 2025) EllapsedTime: 12.7 seconds RetCode: 0 Status: OK